BEGIN:VCALENDAR
VERSION:2.0
PRODID:-//SayaEventsInt - ECPv6.15.20//NONSGML v1.0//EN
CALSCALE:GREGORIAN
METHOD:PUBLISH
X-WR-CALNAME:SayaEventsInt
X-ORIGINAL-URL:https://sayaeventsint.com
X-WR-CALDESC:Events for SayaEventsInt
REFRESH-INTERVAL;VALUE=DURATION:PT1H
X-Robots-Tag:noindex
X-PUBLISHED-TTL:PT1H
BEGIN:VTIMEZONE
TZID:UTC
BEGIN:STANDARD
TZOFFSETFROM:+0000
TZOFFSETTO:+0000
TZNAME:UTC
DTSTART:20230101T000000
END:STANDARD
END:VTIMEZONE
BEGIN:VEVENT
DTSTART;TZID=UTC:20240816T190000
DTEND;TZID=UTC:20240816T220000
DTSTAMP:20260425T105913
CREATED:20240517T142446Z
LAST-MODIFIED:20240614T064749Z
UID:1848-1723834800-1723845600@sayaeventsint.com
SUMMARY:CEO Conclave and Investors Dinner 2nd Edition
DESCRIPTION:Date: August 16th\, 2024 \nVenue: Villa Rosa Kempinski\, Nairobi \nTheme: Promoting Sustainable Business Practices and Social Responsibility in Today’s Corporate World \nIntroduction \nThe CEO Conclave and Investors Dinner\, scheduled for August 16th\, 2024\, at the esteemed Villa Rosa Kempinski hotel in Nairobi\, is set against the backdrop of promoting sustainable business practices and social responsibility in today’s corporate landscape. This gathering serves as a catalyst for fostering dialogue\, collaboration\, and action towards building a more dependable and socially responsible business ecosystem. \nAgenda Highlights \n\n Keynote Addresses: Distinguished speakers and thought leaders will deliver keynote addresses focusing on the imperative of integrating sustainable practices and social responsibility into corporate strategies. They will explore innovative approaches to addressing environmental\, social\, and governance (ESG) challenges while driving business growth and profitability.\n Panel Discussions: Engaging panel discussions will delve into various facets of sustainability and social responsibility\, including environmental stewardship\, community engagement\, ethical governance\, and responsible supply chain management. Experts will share insights\, best practices\, and case studies illustrating the business case for sustainability.\n Interactive Workshops: Practical workshops from exhibitors and breakout sessions will provide attendees with actionable insights and tools for implementing sustainable business practices within their organizations. Topics may include sustainable finance\, renewable energy adoption\, waste reduction strategies\, and stakeholder engagement.\n Investors Forum: A dedicated investors forum will highlight the growing importance of ESG factors in investment decision-making. Institutional investors\, asset managers\, and impact investors will discuss the integration of sustainability criteria into investment portfolios and the role of shareholder activism in driving corporate sustainability.\n Networking Opportunities: Networking breaks and a gala dinner will offer attendees the chance to connect with industry peers\, sustainability experts\, investors\, and CSR practitioners. These interactions will facilitate knowledge sharing\, collaboration\, and the formation of strategic partnerships aimed at advancing sustainable business goals.\n\nTarget Audience \n– CEOs and business leaders \n– Investors and asset managers \n– Sustainability professionals \n– Corporate social responsibility (CSR) practitioners \n– Government representatives \n– Non-governmental organizations (NGOs) and civil society groups \n– Academics and researchers \nWhy Attend? \n– Gain insights into the latest trends and best practices in sustainable business and social responsibility. \n– Network with industry leaders\, sustainability experts\, and potential collaborators. \n– Learn practical strategies for integrating sustainability into corporate strategy and operations. \n– Explore investment opportunities aligned with ESG principles. \n– Contribute to the advancement of sustainable development goals and corporate citizenship. \nRegistration Details \nSecure your place at this pivotal event shaping the future of sustainable business and social responsibility. Limited seats are available. Contact the organizing committee at +254-712-885-069. \nJoin us on August 16th\, 2024\, at the Villa Rosa Kempinski Hotel in Nairobi\, as we drive the transition towards a more sustainable and socially responsible corporate world. Together\, we can make a difference! \nREGISTER
URL:https://sayaeventsint.com/event/ceo-conclave-and-investors-dinner-2nd-edition/
LOCATION:Villa Rosa Kempinski\, Villa Rosa Kempinski\, Nairobi\, Kenya
ATTACH;FMTTYPE=image/png:https://sayaeventsint.com/wp-content/uploads/2024/05/CCID_nospeakers_thumbnail.png
ORGANIZER;CN="Asia Africa Chamber of Commerce":MAILTO:info@asiaafrika.org
END:VEVENT
END:VCALENDAR