BEGIN:VCALENDAR
VERSION:2.0
PRODID:-//SayaEventsInt - ECPv6.15.20//NONSGML v1.0//EN
CALSCALE:GREGORIAN
METHOD:PUBLISH
X-WR-CALNAME:SayaEventsInt
X-ORIGINAL-URL:https://sayaeventsint.com
X-WR-CALDESC:Events for SayaEventsInt
REFRESH-INTERVAL;VALUE=DURATION:PT1H
X-Robots-Tag:noindex
X-PUBLISHED-TTL:PT1H
BEGIN:VTIMEZONE
TZID:UTC
BEGIN:STANDARD
TZOFFSETFROM:+0000
TZOFFSETTO:+0000
TZNAME:UTC
DTSTART:20220101T000000
END:STANDARD
END:VTIMEZONE
BEGIN:VEVENT
DTSTART;TZID=UTC:20240607T090000
DTEND;TZID=UTC:20240608T170000
DTSTAMP:20260425T110630
CREATED:20240507T072756Z
LAST-MODIFIED:20240528T143716Z
UID:1594-1717750800-1717866000@sayaeventsint.com
SUMMARY:AGRI BUSINESS EXPO NYERI EDITION
DESCRIPTION:We are thrilled to announce the upcoming Agri-Business Expo in Chaka\, Nyeri\, on the 7th and 8th of June 2024. \nThis event promises to be a game-changer for the agri-business sector\, bringing together industry leaders\, innovators\, and stakeholders to explore the latest trends\, technologies\, and opportunities shaping the future of agriculture. \nWhy Exhibit at the Agri-Business Expo? \n\n Reach a Targeted Audience: Connect with farmers\, agri-preneurs\, investors\, and decision-makers eager to discover new products\, services\, and solutions to enhance their agricultural practices.\n Showcase Your Innovations: Demonstrate your latest products\, technologies\, and services to a captive audience looking for innovative solutions to drive efficiency\, productivity\, and sustainability in agriculture.\n Build Strong Relationships: Network with industry peers\, forge new partnerships\, and strengthen relationships with key players in the agri-business ecosystem.\n Raise Brand Awareness: Increase your brand visibility and market presence among a highly engaged and relevant audience passionate about agriculture and agri-business.\n Educational Opportunities: Participate in insightful workshops\, seminars\, and panel discussions featuring expert speakers sharing valuable knowledge and insights on industry trends\, challenges\, and opportunities.\n Exclusive Sponsorship Opportunities: Take advantage of our exclusive sponsorship packages to maximize your brand exposure and showcase your commitment to supporting the growth and development of the agri-business sector.\n\nDon’t miss this unique opportunity to position your company as a leader and innovator in the agri-business industry. Reserve your exhibition space today and join us in shaping the future of agriculture at the Agri-Business Expo in Chaka\, Nyeri! \nTo secure your spot or for more information on exhibition packages and sponsorship opportunities\, please contact us at 0723856530/0712885069/0743062513. \nWe look forward to welcoming you to the Agri-Business Expo in Chaka\, Nyeri\, and working together to make this event a resounding success! \nREGISTER
URL:https://sayaeventsint.com/event/agri-business-expo-nyeri-edition/
LOCATION:Chaka Grounds\, Chaka grounds\, Nyeri\, Kenya
ATTACH;FMTTYPE=image/png:https://sayaeventsint.com/wp-content/uploads/2024/05/Nyeri_Chaka_Agri_Expo_thumbnail.png
ORGANIZER;CN="Saya Events":MAILTO:info@sayaeventsint.com
END:VEVENT
BEGIN:VEVENT
DTSTART;TZID=UTC:20240315T080000
DTEND;TZID=UTC:20240316T170000
DTSTAMP:20260425T110630
CREATED:20231009T132849Z
LAST-MODIFIED:20240509T111304Z
UID:1372-1710489600-1710608400@sayaeventsint.com
SUMMARY:THE KENYA AGRI-BUSINESS AND FOOD SECURITY FORUM – COMING TO MAIYAN NANYUKI
DESCRIPTION:Get ready for a groundbreaking event that celebrates agriculture\, innovation\, and food security.\nJoin us in the stunning setting of Maiyan Nanyuki in February 2024 for an unforgettable\nexperience! \nAt the Kenya Agri-Business and Food Security Forum\, you’ll have the chance to: \nConnect: Network with agricultural leaders\, policymakers\, and experts.\nLearn: Discover the latest advancements in sustainable farming practices and technology.\nContribute: Be part of the solution to food security challenges.\nEngage: Explore exciting business opportunities and collaborations.\nInspire: Gain insights from inspiring success stories and thought leaders.\nCelebrate: Celebrate the bright future of agriculture in Kenya. \nStay tuned for more details\, incredible speakers\, and registration information. Together\, we can\ncultivate a more sustainable and food-secure future for Kenya!
URL:https://sayaeventsint.com/event/the-kenya-agri-business-and-food-security-forum-coming-to-maiyan-nanyuki/
ATTACH;FMTTYPE=image/png:https://sayaeventsint.com/wp-content/uploads/2023/10/NANYUKI-FLIER-1-300x300-1.png
END:VEVENT
BEGIN:VEVENT
DTSTART;TZID=UTC:20231208T180000
DTEND;TZID=UTC:20231223T210000
DTSTAMP:20260425T110630
CREATED:20231122T150147Z
LAST-MODIFIED:20231130T143555Z
UID:1481-1702058400-1703365200@sayaeventsint.com
SUMMARY:CEO'S NETWORKING DINNER
DESCRIPTION:  \nAn Exclusive Gathering for Visionary Leaders! Join us at the CEO’s Networking Dinner on December 8th\, 2023\, hosted by Saya Events International at the prestigious Radisson Blu Arboretum.\nThis highly anticipated event is tailored for CEOs\, innovators\, and industry trailblazers\, offering a platform for strategic connections\, insightful discussions\, and collaborative opportunities. \n🗓️ Date: December 8th\, 2023\n📍 Venue: Radisson Blu Arboretum \nAs Saya Events International\, we are thrilled to curate an evening that fosters meaningful engagements and empowers leaders to explore new horizons in their industries. This networking dinner is your gateway to a world of possibilities\, where relationships are forged\, and ideas flourish.\nJoin us for an unforgettable evening of networking and inspiration! Stay tuned for further details and official invitations. Save the date and prepare to elevate your network and expand your influence in the business landscape. \n  \n  \n REGISTER NOW \n 
URL:https://sayaeventsint.com/event/ceos-networking-dinner/
LOCATION:Radisson Blue\, Nairobi\, Kenya
ATTACH;FMTTYPE=image/png:https://sayaeventsint.com/wp-content/uploads/2023/11/CEOS-NETWORKING-DINNER-FLYER.png
END:VEVENT
BEGIN:VEVENT
DTSTART;VALUE=DATE:20231110
DTEND;VALUE=DATE:20231111
DTSTAMP:20260425T110630
CREATED:20231009T132730Z
LAST-MODIFIED:20231009T132731Z
UID:1370-1699574400-1699660799@sayaeventsint.com
SUMMARY:KENYA AGRI-BUSINESS AND FOOD SECURITY FORUM IN ELDORET
DESCRIPTION:Are you passionate about agriculture\, food security\, and sustainable development? Circle the date\n– November 10\, 2023 – because Eldoret is about to host a game-changing event! \nThe Kenya Agri-Business and Food Security Forum is your opportunity to: \nNetwork: Connect with industry leaders\, policymakers\, and experts.\nLearn: Discover the latest in sustainable farming practices and innovation.\nContribute: Be part of the solution to food security challenges.\nEngage: Explore valuable business opportunities and collaborations.\nInspire: Gain insights from success stories and thought leaders.\nCelebrate: Toast to the future of agriculture in Kenya. \nDon’t miss out on this transformative event. Keep an eye out for more details\, captivating \nspeakers\, and registration information. Together\, we can cultivate a more sustainable and food-\nsecure future for Kenya!
URL:https://sayaeventsint.com/event/kenya-agri-business-and-food-security-forum-in-eldoret/
LOCATION:Eldoret
ATTACH;FMTTYPE=image/png:https://sayaeventsint.com/wp-content/uploads/2023/10/ELDY-NEW-1-1-300x300-1.png
END:VEVENT
BEGIN:VEVENT
DTSTART;TZID=UTC:20231003T080000
DTEND;TZID=UTC:20231005T170000
DTSTAMP:20260425T110630
CREATED:20231009T132508Z
LAST-MODIFIED:20231009T132508Z
UID:1363-1696320000-1696525200@sayaeventsint.com
SUMMARY:ASIA SMART FARMING & FOOD SECURITY 2023
DESCRIPTION:Smart Farming & Food Security 2023 (ASF 2023) focuses strategically on pesticide-free smart farming through knowledge-sharing and skills development for farmers and technology sharing from world-renowned agrotech companies to address the challenges that farmers face such as: \n• Limited access to technologies\n• Lack of proper training and education\n• Knowledge gap on high-yield seeds\n• Difficulty in getting financial assistance\n• Heavy dependence on chemical pesticides\n• Limited access to market\n• Inefficient logistic facilities for perishables and others \nThe tagline for this event is ”Making Farming Attractive Again”. \nThe event provides visitorswith access to proven smart farming technologies to produce higher quality products that command better prices and higher income for farmers.These include artificial intelligence\, sensors\,drones\, data analytics\, automation andESG-compliant consumables. \nASF 2023 provides a professional agriculture conference and exhibition platform that brings together local and international experts\, innovators\, policy-makers\, financiers and other stakeholders in smart farming technologies. \n  \nThe opportunities presented during this unique conference\, exhibition and B2B matching session expose farmers to sustainable business opportunities. Participants of ASF 2023 will highlight new business ventures and share their knowledge and experience while providing hands-on opportunities to local agro-preneurs to participate in the lucrative domestic agriculture sector from upstream to downstream activities\, including the food processing industries.
URL:https://sayaeventsint.com/event/asia-smart-farming-food-security-2023/
ATTACH;FMTTYPE=image/jpeg:https://sayaeventsint.com/wp-content/uploads/2023/10/ASF-2023-BROCHURE-5_page-0001-212x300-1.jpg
END:VEVENT
BEGIN:VEVENT
DTSTART;VALUE=DATE:20230812
DTEND;VALUE=DATE:20230813
DTSTAMP:20260425T110630
CREATED:20231009T132126Z
LAST-MODIFIED:20231009T132126Z
UID:1361-1691798400-1691884799@sayaeventsint.com
SUMMARY:Kenya Dairy Farming Forum
DESCRIPTION:The Kenya Dairy Farming Forum 2023 is a highly anticipated event organized by Saya Events International. It will be held on August 12th\, 2023\, at Green Stadium in Bomet County\, Kenya. The forum aims to bring together stakeholders in the dairy sector\, including dairy farmers\, pharmaceutical companies\, feed suppliers\, animal health\, genetics supply\, supplement supply\, dairy equipment manufacturing and supply\, research and education\, financial institution\, government representative policymaker sectors and more. By hosting the event in Bomet County\, which is renowned for its contributions to the dairy industry\, exhibitors have a unique opportunity to tap into the region’s favorable agricultural conditions and establish valuable connections within the local dairy farming ecosystem. \n\n\nThe event aims to achieve several objectives\, including facilitating networking and business opportunities\, enhancing product and technology awareness\, expanding market reach\, fostering knowledge transfer and capacity building\, and encouraging collaboration and innovation in the dairy industry. By participating in the Kenya Dairy Farming Forum 2023\, exhibitors can showcase their products and services\, build brand visibility\, and expand their customer base.
URL:https://sayaeventsint.com/event/kenya-dairy-farming-forum/
LOCATION:Bomet\, 245 - Nairobi\, Nairobi\, Nairobi County\, 40223\, Kenya
ATTACH;FMTTYPE=image/png:https://sayaeventsint.com/wp-content/uploads/2023/10/Kenya-Dairy-Farming-Forum-png-1.png
END:VEVENT
END:VCALENDAR